BEGIN:VCALENDAR
VERSION:2.0
PRODID:-//Squarespace Inc/Squarespace 6//v6//EN
BEGIN:VEVENT
UID:5a29d140085229c528e2afae@squarespace.com
DTSTAMP:20201204T055923Z
DTSTART:20170219T000000Z
DTEND:20220219T010000Z
SUMMARY:AGA Christmas Turkey
END:VEVENT
END:VCALENDAR
