BEGIN:VCALENDAR
VERSION:2.0
PRODID:-//Squarespace Inc/Squarespace 6//v6//EN
BEGIN:VEVENT
UID:59e938269f07f58417ede05a@squarespace.com
DTSTAMP:20171208T001459Z
DTSTART:20170308T000000Z
DTEND:20210708T020000Z
SUMMARY:Cherry and Almond Tart
END:VEVENT
END:VCALENDAR
