BEGIN:VCALENDAR
VERSION:2.0
PRODID:-//Squarespace Inc/Squarespace 6//v6//EN
BEGIN:VEVENT
UID:59e037c78fd4d25acce6cf7d@squarespace.com
DTSTAMP:20171208T001630Z
DTSTART:20170315T040000Z
DTEND:20210315T050000Z
SUMMARY:Buffalo Falafel Pitas w/Garlic Blue Cheese Fries
END:VEVENT
END:VCALENDAR
