BEGIN:VCALENDAR
VERSION:2.0
PRODID:-//Squarespace Inc/Squarespace 6//v6//EN
BEGIN:VEVENT
UID:5b2c406b1ae6cfd5a32d0020@squarespace.com
DTSTAMP:20190510T025315Z
DTSTART:20170121T233000Z
DTEND:20211122T003000Z
SUMMARY:Gabriel Gaté Passionfruit Pavlova
END:VEVENT
END:VCALENDAR
