BEGIN:VCALENDAR
VERSION:2.0
PRODID:-//Squarespace Inc/Squarespace 6//v6//EN
BEGIN:VEVENT
UID:57ec777a579fb363a5bafc3c@squarespace.com
DTSTAMP:20200901T044200Z
DTSTART:20170914T023000Z
DTEND:20200116T023000Z
SUMMARY:Blueberry orange cake with agave and pistachios
END:VEVENT
END:VCALENDAR
