BEGIN:VCALENDAR
VERSION:2.0
PRODID:-//Squarespace Inc/Squarespace 6//v6//EN
BEGIN:VEVENT
UID:5c789eaa7817f7ca35321825@squarespace.com
DTSTAMP:20200901T063237Z
DTSTART:20151122T030000Z
DTEND:20210618T030000Z
SUMMARY:Mexican Baked Eggs
END:VEVENT
END:VCALENDAR
