BEGIN:VCALENDAR
VERSION:2.0
PRODID:-//Squarespace Inc/Squarespace 6//v6//EN
BEGIN:VEVENT
UID:5aefe6a003ce64586874e22f@squarespace.com
DTSTAMP:20180507T054349Z
DTSTART:20160607T060000Z
DTEND:20190707T070000Z
SUMMARY:Blueberry Almond Pancakes
END:VEVENT
END:VCALENDAR
