BEGIN:VCALENDAR
VERSION:2.0
PRODID:-//Squarespace Inc/Squarespace 6//v6//EN
BEGIN:VEVENT
UID:5b02617d1ae6cf341de62b14@squarespace.com
DTSTAMP:20180521T061434Z
DTSTART:20160603T063000Z
DTEND:20210503T063000Z
SUMMARY:Vegetable Spring Quiche
END:VEVENT
END:VCALENDAR
