BEGIN:VCALENDAR
VERSION:2.0
PRODID:-//Squarespace Inc/Squarespace 6//v6//EN
BEGIN:VEVENT
UID:5b0243ca1ae6cf341de3772d@squarespace.com
DTSTAMP:20190628T035536Z
DTSTART:20160604T040000Z
DTEND:20230904T050000Z
SUMMARY:Loaded Mexican Nacho Fries
END:VEVENT
END:VCALENDAR
