BEGIN:VCALENDAR
VERSION:2.0
PRODID:-//Squarespace Inc/Squarespace 6//v6//EN
BEGIN:VEVENT
UID:5b060b97aa4a9937e49f0245@squarespace.com
DTSTAMP:20180524T012114Z
DTSTART:20160531T010000Z
DTEND:20210630T020000Z
SUMMARY:Kiflice Sa Lukom
END:VEVENT
END:VCALENDAR
