BEGIN:VCALENDAR
VERSION:2.0
PRODID:-//Squarespace Inc/Squarespace 6//v6//EN
BEGIN:VEVENT
UID:573010fb59827eeb6e4377ed@squarespace.com
DTSTAMP:20200901T055556Z
DTSTART:20170920T043000Z
DTEND:20200613T043000Z
SUMMARY:Slow Roasted Shoulder of Plains Paddock Lamb\, Salad Primavera\, Sa
 lsa Verde &amp\; Ricotta
END:VEVENT
END:VCALENDAR
