BEGIN:VCALENDAR
VERSION:2.0
PRODID:-//Squarespace Inc/Squarespace 6//v6//EN
BEGIN:VEVENT
UID:5b063c82352f537faa8ceb43@squarespace.com
DTSTAMP:20180524T042753Z
DTSTART:20160530T043000Z
DTEND:20210528T053000Z
SUMMARY:Roasted Beet Tostadas With Avocado Crema
END:VEVENT
END:VCALENDAR
