BEGIN:VCALENDAR
VERSION:2.0
PRODID:-//Squarespace Inc/Squarespace 6//v6//EN
BEGIN:VEVENT
UID:5b06418f88251b0847b412ff@squarespace.com
DTSTAMP:20180524T055244Z
DTSTART:20160530T050000Z
DTEND:20210228T050000Z
SUMMARY:Cherry Pistachio Tart
END:VEVENT
END:VCALENDAR
