BEGIN:VCALENDAR
VERSION:2.0
PRODID:-//Squarespace Inc/Squarespace 6//v6//EN
BEGIN:VEVENT
UID:5b06565e70a6ad2e494087ca@squarespace.com
DTSTAMP:20200901T044039Z
DTSTART:20160529T063000Z
DTEND:20210628T073000Z
SUMMARY:Raspberry and Coconut Cake
END:VEVENT
END:VCALENDAR
