BEGIN:VCALENDAR
VERSION:2.0
PRODID:-//Squarespace Inc/Squarespace 6//v6//EN
BEGIN:VEVENT
UID:5b3c266f03ce6479dfc31fd3@squarespace.com
DTSTAMP:20200901T062543Z
DTSTART:20160521T020000Z
DTEND:20210821T030000Z
SUMMARY:Parmesan-Crumbed Lamb Cutlets
END:VEVENT
END:VCALENDAR
