BEGIN:VCALENDAR
VERSION:2.0
PRODID:-//Squarespace Inc/Squarespace 6//v6//EN
BEGIN:VEVENT
UID:5b3c344e88251b563195c334@squarespace.com
DTSTAMP:20180704T024841Z
DTSTART:20160519T030000Z
DTEND:20210819T040000Z
SUMMARY:Chocolate Chip Date Cookies
END:VEVENT
END:VCALENDAR
