BEGIN:VCALENDAR
VERSION:2.0
PRODID:-//Squarespace Inc/Squarespace 6//v6//EN
BEGIN:VEVENT
UID:5b3c511688251b5631992895@squarespace.com
DTSTAMP:20180704T045759Z
DTSTART:20160517T050000Z
DTEND:20230218T050000Z
SUMMARY:Sticky Beef Ribs with Salted Black Beans
END:VEVENT
END:VCALENDAR
