BEGIN:VCALENDAR
VERSION:2.0
PRODID:-//Squarespace Inc/Squarespace 6//v6//EN
BEGIN:VEVENT
UID:5b3c6d998a922db5a52d5da2@squarespace.com
DTSTAMP:20200901T045627Z
DTSTART:20160515T070000Z
DTEND:20200915T080000Z
SUMMARY:Roasted Grape and Rosemary Goat Cheese Tarts
END:VEVENT
END:VCALENDAR
