BEGIN:VCALENDAR
VERSION:2.0
PRODID:-//Squarespace Inc/Squarespace 6//v6//EN
BEGIN:VEVENT
UID:5b95eb6103ce64eefd2444ab@squarespace.com
DTSTAMP:20200901T050416Z
DTSTART:20160303T030000Z
DTEND:20210703T050000Z
SUMMARY:Cauliflower and Cheese Croquettes
END:VEVENT
END:VCALENDAR
