BEGIN:VCALENDAR
VERSION:2.0
PRODID:-//Squarespace Inc/Squarespace 6//v6//EN
BEGIN:VEVENT
UID:5b6cf5cc352f53d0971b92fd@squarespace.com
DTSTAMP:20190125T014531Z
DTSTART:20160310T013000Z
DTEND:20211210T023000Z
SUMMARY:Vegan Banh Xeo
END:VEVENT
END:VCALENDAR
