BEGIN:VCALENDAR
VERSION:2.0
PRODID:-//Squarespace Inc/Squarespace 6//v6//EN
BEGIN:VEVENT
UID:5b441fe3352f531653882967@squarespace.com
DTSTAMP:20180710T025717Z
DTSTART:20160310T020000Z
DTEND:20200610T040000Z
SUMMARY:Beetroot and Fetta Fritters
END:VEVENT
END:VCALENDAR
