BEGIN:VCALENDAR
VERSION:2.0
PRODID:-//Squarespace Inc/Squarespace 6//v6//EN
BEGIN:VEVENT
UID:5b95e15fcd83660363e6b8ba@squarespace.com
DTSTAMP:20180910T035608Z
DTSTART:20160304T023000Z
DTEND:20220902T043000Z
SUMMARY:Spanish Crema Catalana
END:VEVENT
END:VCALENDAR
