BEGIN:VCALENDAR
VERSION:2.0
PRODID:-//Squarespace Inc/Squarespace 6//v6//EN
BEGIN:VEVENT
UID:5a83c28b4192025a996336a7@squarespace.com
DTSTAMP:20200901T055313Z
DTSTART:20161129T053000Z
DTEND:20200427T073000Z
SUMMARY:Cheesy Vegan Pumpkin Scrolls
END:VEVENT
END:VCALENDAR
