BEGIN:VCALENDAR
VERSION:2.0
PRODID:-//Squarespace Inc/Squarespace 6//v6//EN
BEGIN:VEVENT
UID:5a657324f9619a26793c183a@squarespace.com
DTSTAMP:20180122T051712Z
DTSTART:20161229T053000Z
DTEND:20200828T073000Z
SUMMARY:Jam and Vanilla Cream Lamingtons
END:VEVENT
END:VCALENDAR
