BEGIN:VCALENDAR
VERSION:2.0
PRODID:-//Squarespace Inc/Squarespace 6//v6//EN
BEGIN:VEVENT
UID:5a6674a5e2c4831e8e5e259a@squarespace.com
DTSTAMP:20200901T054837Z
DTSTART:20161227T000000Z
DTEND:20210727T020000Z
SUMMARY:Loaded Lamb Meatballs with Eggplant Hummus
END:VEVENT
END:VCALENDAR
