BEGIN:VCALENDAR
VERSION:2.0
PRODID:-//Squarespace Inc/Squarespace 6//v6//EN
BEGIN:VEVENT
UID:5a6686beec212de433335cfb@squarespace.com
DTSTAMP:20200901T050022Z
DTSTART:20161225T010000Z
DTEND:20211025T020000Z
SUMMARY:Sweet Potato French Toast with Bacon 
END:VEVENT
END:VCALENDAR
