BEGIN:VCALENDAR
VERSION:2.0
PRODID:-//Squarespace Inc/Squarespace 6//v6//EN
BEGIN:VEVENT
UID:5c3c1176f950b7929a3017c6@squarespace.com
DTSTAMP:20200901T053048Z
DTSTART:20151214T050000Z
DTEND:20210513T070000Z
SUMMARY:Rayburn Pumpkin And Pecan Bread
END:VEVENT
END:VCALENDAR
