BEGIN:VCALENDAR
VERSION:2.0
PRODID:-//Squarespace Inc/Squarespace 6//v6//EN
BEGIN:VEVENT
UID:5ad56e16f950b777a93fec8f@squarespace.com
DTSTAMP:20200901T050011Z
DTSTART:20161109T030000Z
DTEND:20230809T050000Z
SUMMARY:Rustic Heirloom Tomato Tart
END:VEVENT
END:VCALENDAR
