BEGIN:VCALENDAR
VERSION:2.0
PRODID:-//Squarespace Inc/Squarespace 6//v6//EN
BEGIN:VEVENT
UID:5ad6971103ce645b2446572b@squarespace.com
DTSTAMP:20180418T010236Z
DTSTART:20161108T000000Z
DTEND:20200708T020000Z
SUMMARY:Pumpkin Ricotta Gnocchi with Pancetta and Seared Radicchio
END:VEVENT
END:VCALENDAR
