BEGIN:VCALENDAR
VERSION:2.0
PRODID:-//Squarespace Inc/Squarespace 6//v6//EN
BEGIN:VEVENT
UID:5ad59155aa4a998ab11bb095@squarespace.com
DTSTAMP:20180417T065002Z
DTSTART:20161108T053000Z
DTEND:20220408T073000Z
SUMMARY:Chocolate Dipped Madeleines
END:VEVENT
END:VCALENDAR
