BEGIN:VCALENDAR
VERSION:2.0
PRODID:-//Squarespace Inc/Squarespace 6//v6//EN
BEGIN:VEVENT
UID:5ad6a0d9aa4a994bd70c418d@squarespace.com
DTSTAMP:20180418T014422Z
DTSTART:20161106T010000Z
DTEND:20220506T030000Z
SUMMARY:Pumpkin and Goat Cheese Ravioli with Browned Butter + Oregano Bread 
 Crumbs
END:VEVENT
END:VCALENDAR
