BEGIN:VCALENDAR
VERSION:2.0
PRODID:-//Squarespace Inc/Squarespace 6//v6//EN
BEGIN:VEVENT
UID:5a98997324a694fe7eb73351@squarespace.com
DTSTAMP:20200901T062141Z
DTSTART:20161123T003000Z
DTEND:20210223T013000Z
SUMMARY:Banana\, Passionfruit and Coconut loaf
END:VEVENT
END:VCALENDAR
