BEGIN:VCALENDAR
VERSION:2.0
PRODID:-//Squarespace Inc/Squarespace 6//v6//EN
BEGIN:VEVENT
UID:5a989cbe24a694fe7eb80113@squarespace.com
DTSTAMP:20180302T004045Z
DTSTART:20161121T010000Z
DTEND:20200621T030000Z
SUMMARY:Crepes Suzette
END:VEVENT
END:VCALENDAR
