BEGIN:VCALENDAR
VERSION:2.0
PRODID:-//Squarespace Inc/Squarespace 6//v6//EN
BEGIN:VEVENT
UID:5a989b2c9140b75ac9ad4558@squarespace.com
DTSTAMP:20180302T003407Z
DTSTART:20161122T010000Z
DTEND:20200722T030000Z
SUMMARY:Roasted Chicken Pita Wraps with Crispy Chickpeas and Tzatziki
END:VEVENT
END:VCALENDAR
