BEGIN:VCALENDAR
VERSION:2.0
PRODID:-//Squarespace Inc/Squarespace 6//v6//EN
BEGIN:VEVENT
UID:58323e53e58c625a737f9430@squarespace.com
DTSTAMP:20200901T050612Z
DTSTART:20170721T013000Z
DTEND:20211120T023000Z
SUMMARY:Rosemary and Potato Pizza
END:VEVENT
END:VCALENDAR
