BEGIN:VCALENDAR
VERSION:2.0
PRODID:-//Squarespace Inc/Squarespace 6//v6//EN
BEGIN:VEVENT
UID:5a98e2eee2c483204182d591@squarespace.com
DTSTAMP:20180302T060234Z
DTSTART:20161120T060000Z
DTEND:20200620T080000Z
SUMMARY:Japanese Matcha Layer Cake with White Chocolate Cream 
END:VEVENT
END:VCALENDAR
