BEGIN:VCALENDAR
VERSION:2.0
PRODID:-//Squarespace Inc/Squarespace 6//v6//EN
BEGIN:VEVENT
UID:5abaf40a70a6ad9323026835@squarespace.com
DTSTAMP:20180328T015533Z
DTSTART:20161114T020000Z
DTEND:20200514T040000Z
SUMMARY:Cheesecake Eggs with Shortbread Soldiers
END:VEVENT
END:VCALENDAR
