BEGIN:VCALENDAR
VERSION:2.0
PRODID:-//Squarespace Inc/Squarespace 6//v6//EN
BEGIN:VEVENT
UID:5a9c950024a69491feec45e2@squarespace.com
DTSTAMP:20200901T050301Z
DTSTART:20161119T010000Z
DTEND:20200719T030000Z
SUMMARY:Potato Asiago &amp\; Caramelized Onion Galette
END:VEVENT
END:VCALENDAR
