BEGIN:VCALENDAR
VERSION:2.0
PRODID:-//Squarespace Inc/Squarespace 6//v6//EN
BEGIN:VEVENT
UID:5a9c9afe24a69491feed90e0@squarespace.com
DTSTAMP:20190125T014727Z
DTSTART:20161118T013000Z
DTEND:20200718T033000Z
SUMMARY:Vegan Chocolate Bananas Foster Sandwich
END:VEVENT
END:VCALENDAR
