BEGIN:VCALENDAR
VERSION:2.0
PRODID:-//Squarespace Inc/Squarespace 6//v6//EN
BEGIN:VEVENT
UID:5b021b4d352f534e97211988@squarespace.com
DTSTAMP:20180521T011102Z
DTSTART:20160605T013000Z
DTEND:20210505T023000Z
SUMMARY:Jam and Cream Doughnuts
END:VEVENT
END:VCALENDAR
