BEGIN:VCALENDAR
VERSION:2.0
PRODID:-//Squarespace Inc/Squarespace 6//v6//EN
BEGIN:VEVENT
UID:5a9ca35b8165f5587473aeb1@squarespace.com
DTSTAMP:20200901T053005Z
DTSTART:20161116T020000Z
DTEND:20200616T040000Z
SUMMARY:Woven Chocolate Cinnamon Bread
END:VEVENT
END:VCALENDAR
