BEGIN:VCALENDAR
VERSION:2.0
PRODID:-//Squarespace Inc/Squarespace 6//v6//EN
BEGIN:VEVENT
UID:582bdf39893fc0bf7fc8bdf8@squarespace.com
DTSTAMP:20200901T050218Z
DTSTART:20170918T053000Z
DTEND:20211122T063000Z
SUMMARY:Zuchinni Slice
END:VEVENT
END:VCALENDAR
