BEGIN:VCALENDAR
VERSION:2.0
PRODID:-//Squarespace Inc/Squarespace 6//v6//EN
BEGIN:VEVENT
UID:5a9cb22824a69491fef2d673@squarespace.com
DTSTAMP:20200901T054738Z
DTSTART:20161115T030000Z
DTEND:20220115T040000Z
SUMMARY:Roasted Sweet Potato Wedges W/ Green Yogurt Sauce
END:VEVENT
END:VCALENDAR
