BEGIN:VCALENDAR
VERSION:2.0
PRODID:-//Squarespace Inc/Squarespace 6//v6//EN
BEGIN:VEVENT
UID:5ad5593688251baeaacb6892@squarespace.com
DTSTAMP:20190125T014647Z
DTSTART:20161112T013000Z
DTEND:20210612T033000Z
SUMMARY:Raspberry Scrolls
END:VEVENT
END:VCALENDAR
