BEGIN:VCALENDAR
VERSION:2.0
PRODID:-//Squarespace Inc/Squarespace 6//v6//EN
BEGIN:VEVENT
UID:5ad56a3c8a922db75ff67cac@squarespace.com
DTSTAMP:20190903T102346Z
DTSTART:20161110T023000Z
DTEND:20220410T043000Z
SUMMARY:AGA Gluten Free Peanut Butter Brownies
END:VEVENT
END:VCALENDAR
