BEGIN:VCALENDAR
VERSION:2.0
PRODID:-//Squarespace Inc/Squarespace 6//v6//EN
BEGIN:VEVENT
UID:5bceb942104c7b508aaf0978@squarespace.com
DTSTAMP:20200901T053132Z
DTSTART:20160102T063000Z
DTEND:20200502T073000Z
SUMMARY:Zopf (brioche bread)
END:VEVENT
END:VCALENDAR
