BEGIN:VCALENDAR
VERSION:2.0
PRODID:-//Squarespace Inc/Squarespace 6//v6//EN
BEGIN:VEVENT
UID:5d4397335dbfa6000118aae7@squarespace.com
DTSTAMP:20200904T012328Z
DTSTART:20150302T010000Z
DTEND:20250302T020000Z
SUMMARY:Lamb and Dauphinoise Pie
END:VEVENT
END:VCALENDAR
