BEGIN:VCALENDAR
VERSION:2.0
PRODID:-//Squarespace Inc/Squarespace 6//v6//EN
BEGIN:VEVENT
UID:5c4a5aa34fa51ac7dcc65c30@squarespace.com
DTSTAMP:20200901T044951Z
DTSTART:20151209T010000Z
DTEND:20220209T020000Z
SUMMARY:Rayburn Chicken Ceaser Salad
END:VEVENT
END:VCALENDAR
