BEGIN:VCALENDAR
VERSION:2.0
PRODID:-//Squarespace Inc/Squarespace 6//v6//EN
BEGIN:VEVENT
UID:5d15901659fb7700016070a9@squarespace.com
DTSTAMP:20200901T062502Z
DTSTART:20141212T030000Z
DTEND:20221212T040000Z
SUMMARY:Quesadillas
END:VEVENT
END:VCALENDAR
