BEGIN:VCALENDAR
VERSION:2.0
PRODID:-//Squarespace Inc/Squarespace 6//v6//EN
BEGIN:VEVENT
UID:5c4a68d4562fa7282d4bee6d@squarespace.com
DTSTAMP:20190125T014414Z
DTSTART:20151208T020000Z
DTEND:20210508T040000Z
SUMMARY:Rayburn Sticky Toffee Pudding
END:VEVENT
END:VCALENDAR
